BEGIN:VCALENDAR
VERSION:2.0
PRODID:-//wp-events-plugin.com//7.2.3.1//EN
TZID:Europe/Berlin
X-WR-TIMEZONE:Europe/Berlin
BEGIN:VEVENT
UID:0-110@ihk-nuernberg-forscht.de
DTSTART;TZID=Europe/Berlin:20270201T090000
DTEND;TZID=Europe/Berlin:20270201T160000
DTSTAMP:20260407T073350Z
URL:https://ihk-nuernberg-forscht.de/veranstaltungen/forschen-zu-klaengen-
 und-geraeuschen-5/
SUMMARY:Forschen zu Klängen und Geräuschen
DESCRIPTION:[fusion_builder_container type="flex" hundred_percent="no" equa
 l_height_columns="no" hide_on_mobile="small-visibility\,medium-visibility\
 ,large-visibility" background_position="center center" background_repeat="
 no-repeat" fade="no" background_parallax="none" parallax_speed="0.3" video
 _aspect_ratio="16:9" video_loop="yes" video_mute="yes" border_style="solid
 "][fusion_builder_row][fusion_builder_column type="1_1" layout="1_1" backg
 round_position="left top" border_style="solid" border_position="all" spaci
 ng="yes" background_repeat="no-repeat" margin_top="0px" margin_bottom="0px
 " animation_speed="0.3" animation_direction="left" hide_on_mobile="small-v
 isibility\,medium-visibility\,large-visibility" center_content="no" last="
 true" hover_type="none" first="true" background_blend_mode="overlay"][fusi
 on_text]\n\nWir sind jeden Tag umgeben von akustischen Einflüssen und so 
 natürlich auch die Kinder: Morgens klingelt der Wecker\, beim Frühstück
  läuft das Radio\, auf dem Weg zur Kita oder Schule hören die Mädchen u
 nd Jungen unterschiedlichste Geräusche im Straßenverkehr oder lauschen d
 em Vogelzwitschern.\n\n\n\n\n\n\n\nEs geht weiter\, wenn in der Gruppe ges
 ungen wird und beim Aufstehen die Stühle laut über den Boden gerückt we
 rden. Überall sind Dinge zu hören. Sie klingen alle unterschiedlich\, si
 nd mal laut\, mal leise\, rufen angenehme Gefühle hervor oder signalisier
 en Gefahr. Das Entdecken und Erforschen von Klängen und Geräuschen ermö
 glicht den Kindern ein eng an ihre täglichen Erfahrungen geknüpftes Lern
 en. Die Fortbildung bietet dir zahlreiche Ideen\, gemeinsam mit den Kinder
 n Klänge und Geräusche der Umgebung oder des eigenen Körpers zu erforsc
 hen und dem eigenen Hören nachzugehen.\n\nDarüber hinaus erfährst du\, 
 wie die Mädchen und Jungen in Gruppen voneinander lernen und du als päda
 gogische Fach- und Lehrkraft diesen Prozess gut unterstützen kannst.\n\n\
 n\n\n\n\n\n[/fusion_text][/fusion_builder_column][/fusion_builder_row][/fu
 sion_builder_container]
ATTACH;FMTTYPE=image/jpeg:https://ihk-nuernberg-forscht.de/wp-content/uplo
 ads/sites/36/2024/02/RS48425__J7A3265-scaled.jpg
CATEGORIES:Klänge und Geräusche
LOCATION:IHK Nürnberg für Mittelfranken\, Hauptmarkt 25/27\, Nürnberg\, 
 90403\, Deutschland
X-APPLE-STRUCTURED-LOCATION;VALUE=URI;X-ADDRESS=Hauptmarkt 25/27\, Nürnber
 g\, 90403\, Deutschland;X-APPLE-RADIUS=100;X-TITLE=IHK Nürnberg für Mitt
 elfranken:geo:0,0
END:VEVENT
BEGIN:VTIMEZONE
TZID:Europe/Berlin
X-LIC-LOCATION:Europe/Berlin
BEGIN:STANDARD
DTSTART:20261025T020000
TZOFFSETFROM:+0200
TZOFFSETTO:+0100
TZNAME:CET
END:STANDARD
END:VTIMEZONE
END:VCALENDAR